BEGIN:VCALENDAR
VERSION:2.0
PRODID:-//AudioTheme 1.8.0
BEGIN:VEVENT
UID:http://josephtawadros.com/?post_type=audiotheme_gig&#038;p=896
URL:http://josephtawadros.com/concerts/2016-09-17/
DTSTART;TZID=GMT:20160917T103000
SUMMARY:Nexus Arts Centre with Quartet
DESCRIPTION:Joseph's quartet launch his amazing "World Music" album.
LOCATION:Nexus Arts Centre\, Cnr North Terrace and Morphett Street\, Adelaide\, SA\, Australia\, 5000
END:VEVENT
END:VCALENDAR