BEGIN:VCALENDAR
VERSION:2.0
PRODID:-//AudioTheme 1.8.0
BEGIN:VEVENT
UID:http://josephtawadros.com/?post_type=audiotheme_gig&#038;p=913
URL:http://josephtawadros.com/concerts/2016-08-27/
DTSTART;TZID=GMT:20160827T110000
SUMMARY:27th & 28th - Stift Music Festival, Netherlands
DESCRIPTION:Joseph Tawadros plays over three days at the festival\, details below.
LOCATION:Stift International Music Festival\, Stiftskerk\,  Het Stift   \, Weerselo\, Overijssel\, Nederland\, 7595LE
END:VEVENT
END:VCALENDAR