BEGIN:VCALENDAR
VERSION:2.0
PRODID:-//AudioTheme 1.8.0
BEGIN:VEVENT
UID:http://josephtawadros.com/?post_type=audiotheme_gig&#038;p=910
URL:http://josephtawadros.com/concerts/2016-08-06/
DTSTART;TZID=GMT:20160806T170000
SUMMARY:Lapwing Music Festival
DESCRIPTION:Oud recital at Coastguard Cottages\, Seaford\, East Sussex
LOCATION:Coastguard Cottages\, Cuckmere Haven  \, Seaford\, \, United Kingdom\, BN24 4AR
END:VEVENT
END:VCALENDAR