BEGIN:VCALENDAR
VERSION:2.0
PRODID:-//AudioTheme 1.8.0
BEGIN:VEVENT
UID:http://josephtawadros.com/?post_type=audiotheme_gig&#038;p=892
URL:http://josephtawadros.com/concerts/2016-06-14/
DTSTART;TZID=GMT:20160614T180000
SUMMARY:Solo concert at Royal Asiatic Society
DESCRIPTION:Solo oud concert    
LOCATION:Royal Asiatic Society\, 14 Stephenson Way\, London\, \, UK\, NW1 2HD
END:VEVENT
END:VCALENDAR