BEGIN:VCALENDAR
VERSION:2.0
PRODID:-//AudioTheme 1.8.0
BEGIN:VEVENT
UID:http://josephtawadros.com/?post_type=audiotheme_gig&#038;p=862
URL:http://josephtawadros.com/concerts/2016-05-29/
DTSTART;TZID=GMT:20160529T163000
SUMMARY:Manchester Oud Recital
DESCRIPTION:Oud Recital\, Manchester\, UK  Doors open 5:30pm for presentation about Copts In Need and its charitable activities. The main event will commence at 6:30pm.
LOCATION:Royal Northern College of Music\, 124 Oxford Road\, Manchester\, \, UK\,  M13 9RD
END:VEVENT
END:VCALENDAR