BEGIN:VCALENDAR
VERSION:2.0
PRODID:-//AudioTheme 1.8.0
BEGIN:VEVENT
UID:http://josephtawadros.com/?post_type=audiotheme_gig&#038;p=877
URL:http://josephtawadros.com/concerts/2016-05-10/
DTSTART;TZID=GMT:20160510T090000
SUMMARY:Final farewell concert before UK.
DESCRIPTION:Final farewell concert before Joseph leaves Australia for the UK and Europe.
LOCATION:Camelot Lounge\, Marrickville Rd & Railway Parade\, Marrickville\, NSW\, Australia\, 2204
END:VEVENT
END:VCALENDAR