BEGIN:VCALENDAR
VERSION:2.0
PRODID:-//AudioTheme 1.8.0
BEGIN:VEVENT
UID:http://josephtawadros.com/?post_type=audiotheme_gig&#038;p=860
URL:http://josephtawadros.com/concerts/2016-05-09/
DTSTART;TZID=GMT:20160509T090000
SUMMARY:SOLD OUT May 10 tickets on sale ... Farewell concert before UK.
DESCRIPTION:SOLD OUT May 10 tickets now available  A farewell concert before Joseph leaves Australia for the UK and Europe.
LOCATION:Camelot Lounge\, Marrickville Rd & Railway Parade\, Marrickville\, NSW\, Australia\, 2204
END:VEVENT
END:VCALENDAR