BEGIN:VCALENDAR
VERSION:2.0
PRODID:-//AudioTheme 1.8.0
BEGIN:VEVENT
UID:http://josephtawadros.com/?post_type=audiotheme_gig&#038;p=852
URL:http://josephtawadros.com/concerts/2016-05-05/
DTSTART;TZID=GMT:20160505T090000
SUMMARY:SOLD OUT May 10 ickets available - farewell concert before UK
DESCRIPTION:SOLD OUT Tickets available for May 10  Farewell concert before Joseph leaves Australia for the UK and Europe.
LOCATION:Camelot Lounge\, Marrickville Rd & Railway Parade\, Marrickville\, NSW\, Australia\, 2204
END:VEVENT
END:VCALENDAR