BEGIN:VCALENDAR
VERSION:2.0
PRODID:-//AudioTheme 1.8.0
BEGIN:VEVENT
UID:http://josephtawadros.com/?post_type=audiotheme_gig&#038;p=842
URL:http://josephtawadros.com/concerts/2016-05-04/
DTSTART;TZID=GMT:20160504T090000
SUMMARY:SOLD OUT May 10 tickets available Farewell concert before leaving for UK
DESCRIPTION:SOLD OUT Book for May 10th concert now.  Farewell concert before Joseph leaves Australia for the UK and Europe.
LOCATION:Camelot Lounge\, Marrickville Rd & Railway Parade\, Marrickville\, NSW\, Australia\, 2204
END:VEVENT
END:VCALENDAR