BEGIN:VCALENDAR
VERSION:2.0
PRODID:-//AudioTheme 1.8.0
BEGIN:VEVENT
UID:http://josephtawadros.com/redesign/?post_type=audiotheme_gig&#038;p=432
URL:http://josephtawadros.com/concerts/2016-05-01/
DTSTART;VALUE=DATE:20160501
SUMMARY:Canberra International Music Festival
DESCRIPTION:Joseph and James Tawadros perform at the Canberra International Music Festival .
LOCATION:Ainslie Arts Centre\, 30 ELOUERA ST\, Braddon\, ACT\, Australia\, 2612
END:VEVENT
END:VCALENDAR