BEGIN:VCALENDAR
VERSION:2.0
PRODID:-//AudioTheme 1.8.0
BEGIN:VEVENT
UID:http://josephtawadros.com/redesign/?post_type=audiotheme_gig&#038;p=584
URL:http://josephtawadros.com/concerts/2016-04-22/
DTSTART;TZID=GMT:20160422T093000
SUMMARY:Kyneton Town Hall, Joseph Tawadros Trio
DESCRIPTION:Joseph Tawadros Trio at Kynetown Town Hall in the Macedon Ranges region of Victoria.   James Tawadros - percussion\, Matt McMahon - piano\,  Joseph Tawadros - oud.  
LOCATION:Kyneton Town Hall\, 129 Mollison Street\, Kyneton\, VIC\, Australia\, 3444
END:VEVENT
END:VCALENDAR