BEGIN:VCALENDAR
VERSION:2.0
PRODID:-//AudioTheme 1.8.0
BEGIN:VEVENT
UID:http://josephtawadros.com/redesign/?post_type=audiotheme_gig&#038;p=428
URL:http://josephtawadros.com/concerts/2016-04-17/
DTSTART;TZID=GMT:20160417T043000
SUMMARY:Angel quartet at Bundanon
DESCRIPTION:An afternoon concert performance of Joseph's Angel Suite at the Boyd Education Centre\, Riversdale at Bundanon Trust Arts Centre on the Shoalhaven River.
LOCATION:Bundanon Riversdale\, 170 Riversdale Road\,\, Illaroo\, NSW\, Australia\,  2540
END:VEVENT
END:VCALENDAR