BEGIN:VCALENDAR
VERSION:2.0
PRODID:-//AudioTheme 1.8.0
BEGIN:VEVENT
UID:http://josephtawadros.com/?post_type=audiotheme_gig&#038;p=683
URL:http://josephtawadros.com/concerts/2016-04-15/
DTSTART;TZID=GMT:20160415T100000
SUMMARY:Joseph Tawadros Quartet
DESCRIPTION:Quartet performance with Joseph Tawadros (Oud)  James Tawadros(Percussion)  Matt McMahon (Piano)  Karl Dunnicliff (Double Bass)
LOCATION:Blue Mountains Theatre\, 104 Macquarie Road\, Springwood\, NSW\, Australia\, 2777
END:VEVENT
END:VCALENDAR