BEGIN:VCALENDAR
VERSION:2.0
PRODID:-//AudioTheme 1.8.0
BEGIN:VEVENT
UID:http://josephtawadros.com/redesign/?post_type=audiotheme_gig&#038;p=424
URL:http://josephtawadros.com/concerts/2016-03-25/
DTSTART;TZID=GMT:20160325T103000
SUMMARY:National Folk Festival - Trocadero
DESCRIPTION:On Friday\, Joseph's band plays at the Trocadero at the National Folk Festival. They also play on Saturday and Sunday - details below.
LOCATION:National Folk Festival\, Exhibition Park\, Corner of Flemington Road and Northbourne Avenue\, Canberra\, ACT\, 2911
END:VEVENT
END:VCALENDAR