BEGIN:VCALENDAR
VERSION:2.0
PRODID:-//AudioTheme 1.8.0
BEGIN:VEVENT
UID:http://josephtawadros.com/?post_type=audiotheme_gig&#038;p=696
URL:http://josephtawadros.com/concerts/2016-03-09/
DTSTART;TZID=GMT:20160309T120000
SUMMARY:The Collective's Makerspace, Brunei
DESCRIPTION:The Australian High Commission presents a performance by Australian oud virtuoso\, Joseph Tawadros  at the Collective's Makerspace\, Batu Bersurat\, Brunei.
LOCATION:The Collective's Makerspace\, Jalan Batu Bersurat\, Bandar Seri Begawan\, \, Brunei
END:VEVENT
END:VCALENDAR