BEGIN:VCALENDAR
VERSION:2.0
PRODID:-//AudioTheme 1.8.0
BEGIN:VEVENT
UID:http://josephtawadros.com/?post_type=audiotheme_gig&#038;p=694
URL:http://josephtawadros.com/concerts/2016-03-08/
DTSTART;TZID=GMT:20160308T113000
SUMMARY:ISB Theatre, Brunei
DESCRIPTION:The Australian High Commission presents a Gala performance by Oud virtuoso\, Joseph Tawadros at the  ISB Theatre (International School\, Brunei)   .  
LOCATION:International School Brunei - Theatre\, Jalan Utama Salambigar\, Bandar Seri Begawan\, \, Brunei
END:VEVENT
END:VCALENDAR