BEGIN:VCALENDAR
VERSION:2.0
PRODID:-//AudioTheme 1.8.0
BEGIN:VEVENT
UID:http://josephtawadros.com/redesign/?post_type=audiotheme_gig&#038;p=423
URL:http://josephtawadros.com/concerts/2016-03-04/
DTSTART;TZID=GMT:20160304T083000
SUMMARY:Band of Brothers, Melbourne Recital Centre
DESCRIPTION:Joseph and James Tawadros performing with their good friends\, brothers Slava and Leonard Grigoryan on guitars.
LOCATION:Melbourne Recital Centre\, 31 Sturt St\, Southbank\, VIC\, Australia\, 3006
END:VEVENT
END:VCALENDAR