BEGIN:VCALENDAR
VERSION:2.0
PRODID:-//AudioTheme 1.8.0
BEGIN:VEVENT
UID:http://josephtawadros.com/redesign/?post_type=audiotheme_gig&#038;p=402
URL:http://josephtawadros.com/concerts/2016-02-28/
DTSTART;TZID=GMT:20160228T040000
SUMMARY:Parramatta Riverside with band
DESCRIPTION:Joseph brings his band to Riverside\, featuring Karl Dunnicliff (bass)\, Matt McMahon (piano)\, James Tawadros (percussion) and Joseph on oud.
LOCATION:Parramatta Riverside Theatre\, Corner Church and Market Streets\, Parramatta\, NSW\, Australia\, 2150
END:VEVENT
END:VCALENDAR